BEGIN:VCALENDAR
VERSION:2.0
PRODID:-//Athentic Brewing Company - ECPv6.15.17.1//NONSGML v1.0//EN
CALSCALE:GREGORIAN
METHOD:PUBLISH
X-WR-CALNAME:Athentic Brewing Company
X-ORIGINAL-URL:https://athenticbrewing.com
X-WR-CALDESC:Events for Athentic Brewing Company
REFRESH-INTERVAL;VALUE=DURATION:PT1H
X-Robots-Tag:noindex
X-PUBLISHED-TTL:PT1H
BEGIN:VTIMEZONE
TZID:America/New_York
BEGIN:DAYLIGHT
TZOFFSETFROM:-0500
TZOFFSETTO:-0400
TZNAME:EDT
DTSTART:20250309T070000
END:DAYLIGHT
BEGIN:STANDARD
TZOFFSETFROM:-0400
TZOFFSETTO:-0500
TZNAME:EST
DTSTART:20251102T060000
END:STANDARD
BEGIN:DAYLIGHT
TZOFFSETFROM:-0500
TZOFFSETTO:-0400
TZNAME:EDT
DTSTART:20260308T070000
END:DAYLIGHT
BEGIN:STANDARD
TZOFFSETFROM:-0400
TZOFFSETTO:-0500
TZNAME:EST
DTSTART:20261101T060000
END:STANDARD
BEGIN:DAYLIGHT
TZOFFSETFROM:-0500
TZOFFSETTO:-0400
TZNAME:EDT
DTSTART:20270314T070000
END:DAYLIGHT
BEGIN:STANDARD
TZOFFSETFROM:-0400
TZOFFSETTO:-0500
TZNAME:EST
DTSTART:20271107T060000
END:STANDARD
END:VTIMEZONE
BEGIN:VEVENT
DTSTART;TZID=America/New_York:20260502T140000
DTEND;TZID=America/New_York:20260502T210000
DTSTAMP:20260420T183746
CREATED:20251217T154455Z
LAST-MODIFIED:20260407T201345Z
UID:10020982-1777730400-1777755600@athenticbrewing.com
SUMMARY:FOOD: Crab and Soul Catering
DESCRIPTION:Enjoy delicious cajun sea and soul food at the brewery!
URL:https://athenticbrewing.com/event/food-crab-and-soul-catering/2026-05-02/
ATTACH;FMTTYPE=image/png:https://athenticbrewing.com/wp-content/uploads/2025/12/Crab-Soul-Catering.png
END:VEVENT
END:VCALENDAR