BEGIN:VCALENDAR
VERSION:2.0
PRODID:-//Athentic Brewing Company - ECPv6.15.17.1//NONSGML v1.0//EN
CALSCALE:GREGORIAN
METHOD:PUBLISH
X-WR-CALNAME:Athentic Brewing Company
X-ORIGINAL-URL:https://athenticbrewing.com
X-WR-CALDESC:Events for Athentic Brewing Company
REFRESH-INTERVAL;VALUE=DURATION:PT1H
X-Robots-Tag:noindex
X-PUBLISHED-TTL:PT1H
BEGIN:VTIMEZONE
TZID:America/New_York
BEGIN:DAYLIGHT
TZOFFSETFROM:-0500
TZOFFSETTO:-0400
TZNAME:EDT
DTSTART:20250309T070000
END:DAYLIGHT
BEGIN:STANDARD
TZOFFSETFROM:-0400
TZOFFSETTO:-0500
TZNAME:EST
DTSTART:20251102T060000
END:STANDARD
BEGIN:DAYLIGHT
TZOFFSETFROM:-0500
TZOFFSETTO:-0400
TZNAME:EDT
DTSTART:20260308T070000
END:DAYLIGHT
BEGIN:STANDARD
TZOFFSETFROM:-0400
TZOFFSETTO:-0500
TZNAME:EST
DTSTART:20261101T060000
END:STANDARD
BEGIN:DAYLIGHT
TZOFFSETFROM:-0500
TZOFFSETTO:-0400
TZNAME:EDT
DTSTART:20270314T070000
END:DAYLIGHT
BEGIN:STANDARD
TZOFFSETFROM:-0400
TZOFFSETTO:-0500
TZNAME:EST
DTSTART:20271107T060000
END:STANDARD
END:VTIMEZONE
BEGIN:VEVENT
DTSTART;TZID=America/New_York:20260423T170000
DTEND;TZID=America/New_York:20260423T220000
DTSTAMP:20260420T165008
CREATED:20260313T145840Z
LAST-MODIFIED:20260407T201011Z
UID:10020901-1776963600-1776981600@athenticbrewing.com
SUMMARY:Karen's Pupusas
DESCRIPTION:Pop-up Pupusas on the patio with Karen Bonilla!
URL:https://athenticbrewing.com/event/karens-pupusas/2026-04-23/
ATTACH;FMTTYPE=image/jpeg:https://athenticbrewing.com/wp-content/uploads/2026/03/631283452_1539235038073002_8486415330493498678_n.jpg
END:VEVENT
BEGIN:VEVENT
DTSTART;TZID=America/New_York:20260425T140000
DTEND;TZID=America/New_York:20260425T220000
DTSTAMP:20260420T165008
CREATED:20260313T145840Z
LAST-MODIFIED:20260407T201011Z
UID:10020902-1777125600-1777154400@athenticbrewing.com
SUMMARY:Karen's Pupusas
DESCRIPTION:Pop-up Pupusas on the patio with Karen Bonilla!
URL:https://athenticbrewing.com/event/karens-pupusas/2026-04-25/
ATTACH;FMTTYPE=image/jpeg:https://athenticbrewing.com/wp-content/uploads/2026/03/631283452_1539235038073002_8486415330493498678_n.jpg
END:VEVENT
BEGIN:VEVENT
DTSTART;TZID=America/New_York:20260503T140000
DTEND;TZID=America/New_York:20260503T200000
DTSTAMP:20260420T165008
CREATED:20260313T145840Z
LAST-MODIFIED:20260407T201011Z
UID:10020979-1777816800-1777838400@athenticbrewing.com
SUMMARY:Karen's Pupusas
DESCRIPTION:Pop-up Pupusas on the patio with Karen Bonilla!
URL:https://athenticbrewing.com/event/karens-pupusas/2026-05-03/
ATTACH;FMTTYPE=image/jpeg:https://athenticbrewing.com/wp-content/uploads/2026/03/631283452_1539235038073002_8486415330493498678_n.jpg
END:VEVENT
BEGIN:VEVENT
DTSTART;TZID=America/New_York:20260509T140000
DTEND;TZID=America/New_York:20260509T210000
DTSTAMP:20260420T165008
CREATED:20260313T145840Z
LAST-MODIFIED:20260407T201011Z
UID:10020980-1778335200-1778360400@athenticbrewing.com
SUMMARY:Karen's Pupusas
DESCRIPTION:Pop-up Pupusas on the patio with Karen Bonilla!
URL:https://athenticbrewing.com/event/karens-pupusas/2026-05-09/
ATTACH;FMTTYPE=image/jpeg:https://athenticbrewing.com/wp-content/uploads/2026/03/631283452_1539235038073002_8486415330493498678_n.jpg
END:VEVENT
BEGIN:VEVENT
DTSTART;TZID=America/New_York:20260523T140000
DTEND;TZID=America/New_York:20260523T210000
DTSTAMP:20260420T165008
CREATED:20260313T145840Z
LAST-MODIFIED:20260407T201011Z
UID:10020981-1779544800-1779570000@athenticbrewing.com
SUMMARY:Karen's Pupusas
DESCRIPTION:Pop-up Pupusas on the patio with Karen Bonilla!
URL:https://athenticbrewing.com/event/karens-pupusas/2026-05-23/
ATTACH;FMTTYPE=image/jpeg:https://athenticbrewing.com/wp-content/uploads/2026/03/631283452_1539235038073002_8486415330493498678_n.jpg
END:VEVENT
END:VCALENDAR